BEGIN:VCALENDAR
VERSION:2.0
PRODID:-//Tuscaloosa County Alabama - ECPv6.15.20//NONSGML v1.0//EN
CALSCALE:GREGORIAN
METHOD:PUBLISH
X-ORIGINAL-URL:https://www.tuscco.com
X-WR-CALDESC:Events for Tuscaloosa County Alabama
REFRESH-INTERVAL;VALUE=DURATION:PT1H
X-Robots-Tag:noindex
X-PUBLISHED-TTL:PT1H
BEGIN:VTIMEZONE
TZID:America/Chicago
BEGIN:DAYLIGHT
TZOFFSETFROM:-0600
TZOFFSETTO:-0500
TZNAME:CDT
DTSTART:20200308T080000
END:DAYLIGHT
BEGIN:STANDARD
TZOFFSETFROM:-0500
TZOFFSETTO:-0600
TZNAME:CST
DTSTART:20201101T070000
END:STANDARD
BEGIN:DAYLIGHT
TZOFFSETFROM:-0600
TZOFFSETTO:-0500
TZNAME:CDT
DTSTART:20210314T080000
END:DAYLIGHT
BEGIN:STANDARD
TZOFFSETFROM:-0500
TZOFFSETTO:-0600
TZNAME:CST
DTSTART:20211107T070000
END:STANDARD
BEGIN:DAYLIGHT
TZOFFSETFROM:-0600
TZOFFSETTO:-0500
TZNAME:CDT
DTSTART:20220313T080000
END:DAYLIGHT
BEGIN:STANDARD
TZOFFSETFROM:-0500
TZOFFSETTO:-0600
TZNAME:CST
DTSTART:20221106T070000
END:STANDARD
END:VTIMEZONE
BEGIN:VEVENT
DTSTART;VALUE=DATE:20211111
DTEND;VALUE=DATE:20211112
DTSTAMP:20260421T123432
CREATED:20210106T172108Z
LAST-MODIFIED:20210106T172152Z
UID:5909-1636588800-1636675199@www.tuscco.com
SUMMARY:Veteran's Day Holiday
DESCRIPTION:The Tuscaloosa County Courthouse will be closed on Thursday\, November 11th 2021 for the Veteran’s Day Holiday.
URL:https://www.tuscco.com/event/veterans-day-holiday-3/
LOCATION:AL
CATEGORIES:Holiday
END:VEVENT
BEGIN:VEVENT
DTSTART;VALUE=DATE:20211125
DTEND;VALUE=DATE:20211127
DTSTAMP:20260421T123432
CREATED:20210106T172333Z
LAST-MODIFIED:20210106T172553Z
UID:5911-1637798400-1637971199@www.tuscco.com
SUMMARY:Thanksgiving Holiday
DESCRIPTION:The Tuscaloosa County Courthouse will be closed on Thursday\, November 25th and Friday\, November 26th\, 2021 for the Thanksgiving Holiday.
URL:https://www.tuscco.com/event/thanksgiving-holiday-3/
LOCATION:AL
CATEGORIES:Holiday
END:VEVENT
END:VCALENDAR