BEGIN:VCALENDAR
VERSION:2.0
PRODID:-//Tuscaloosa County Alabama - ECPv6.15.20//NONSGML v1.0//EN
CALSCALE:GREGORIAN
METHOD:PUBLISH
X-ORIGINAL-URL:https://www.tuscco.com
X-WR-CALDESC:Events for Tuscaloosa County Alabama
REFRESH-INTERVAL;VALUE=DURATION:PT1H
X-Robots-Tag:noindex
X-PUBLISHED-TTL:PT1H
BEGIN:VTIMEZONE
TZID:America/Chicago
BEGIN:DAYLIGHT
TZOFFSETFROM:-0600
TZOFFSETTO:-0500
TZNAME:CDT
DTSTART:20200308T080000
END:DAYLIGHT
BEGIN:STANDARD
TZOFFSETFROM:-0500
TZOFFSETTO:-0600
TZNAME:CST
DTSTART:20201101T070000
END:STANDARD
BEGIN:DAYLIGHT
TZOFFSETFROM:-0600
TZOFFSETTO:-0500
TZNAME:CDT
DTSTART:20210314T080000
END:DAYLIGHT
BEGIN:STANDARD
TZOFFSETFROM:-0500
TZOFFSETTO:-0600
TZNAME:CST
DTSTART:20211107T070000
END:STANDARD
BEGIN:DAYLIGHT
TZOFFSETFROM:-0600
TZOFFSETTO:-0500
TZNAME:CDT
DTSTART:20220313T080000
END:DAYLIGHT
BEGIN:STANDARD
TZOFFSETFROM:-0500
TZOFFSETTO:-0600
TZNAME:CST
DTSTART:20221106T070000
END:STANDARD
END:VTIMEZONE
BEGIN:VEVENT
DTSTART;TZID=America/Chicago:20210901T090000
DTEND;TZID=America/Chicago:20210901T110000
DTSTAMP:20260421T151608
CREATED:20211004T142255Z
LAST-MODIFIED:20211004T142255Z
UID:6964-1630486800-1630494000@www.tuscco.com
SUMMARY:County Commission Meeting
DESCRIPTION:The Tuscaloosa County Commission will meet on September 1\, 2021 at 9:00 am in the County Commission Chambers (Room G15) at the Tuscaloosa County Courthouse.
URL:https://www.tuscco.com/event/county-commission-meeting-130/
LOCATION:County Commission Chambers\, 714 Greensboro Avenue\, Room G15\, Tuscaloosa\, AL\, 35401\, United States
CATEGORIES:Meetings
END:VEVENT
BEGIN:VEVENT
DTSTART;VALUE=DATE:20210906
DTEND;VALUE=DATE:20210907
DTSTAMP:20260421T151608
CREATED:20210106T171915Z
LAST-MODIFIED:20210106T172134Z
UID:5906-1630886400-1630972799@www.tuscco.com
SUMMARY:Labor Day Holiday
DESCRIPTION:The Tuscaloosa County Courthouse will be closed on Monday\, September 6th 2021 for the Labor Day Holiday.
URL:https://www.tuscco.com/event/labor-day-holiday-3/
LOCATION:AL
CATEGORIES:Holiday
END:VEVENT
BEGIN:VEVENT
DTSTART;TZID=America/Chicago:20210915T090000
DTEND;TZID=America/Chicago:20210915T110000
DTSTAMP:20260421T151608
CREATED:20211004T142400Z
LAST-MODIFIED:20211004T142400Z
UID:6966-1631696400-1631703600@www.tuscco.com
SUMMARY:County Commission Meeting
DESCRIPTION:The Tuscaloosa County Commission will meet on September 15\, 2021 at 9:00 am in the County Commission Chambers (Room G15) at the Tuscaloosa County Courthouse.
URL:https://www.tuscco.com/event/county-commission-meeting-131/
LOCATION:County Commission Chambers\, 714 Greensboro Avenue\, Room G15\, Tuscaloosa\, AL\, 35401\, United States
CATEGORIES:Meetings
END:VEVENT
END:VCALENDAR