BEGIN:VCALENDAR
VERSION:2.0
PRODID:-//Tuscaloosa County Alabama - ECPv6.15.20//NONSGML v1.0//EN
CALSCALE:GREGORIAN
METHOD:PUBLISH
X-ORIGINAL-URL:https://www.tuscco.com
X-WR-CALDESC:Events for Tuscaloosa County Alabama
REFRESH-INTERVAL;VALUE=DURATION:PT1H
X-Robots-Tag:noindex
X-PUBLISHED-TTL:PT1H
BEGIN:VTIMEZONE
TZID:America/Chicago
BEGIN:DAYLIGHT
TZOFFSETFROM:-0600
TZOFFSETTO:-0500
TZNAME:CDT
DTSTART:20200308T080000
END:DAYLIGHT
BEGIN:STANDARD
TZOFFSETFROM:-0500
TZOFFSETTO:-0600
TZNAME:CST
DTSTART:20201101T070000
END:STANDARD
BEGIN:DAYLIGHT
TZOFFSETFROM:-0600
TZOFFSETTO:-0500
TZNAME:CDT
DTSTART:20210314T080000
END:DAYLIGHT
BEGIN:STANDARD
TZOFFSETFROM:-0500
TZOFFSETTO:-0600
TZNAME:CST
DTSTART:20211107T070000
END:STANDARD
BEGIN:DAYLIGHT
TZOFFSETFROM:-0600
TZOFFSETTO:-0500
TZNAME:CDT
DTSTART:20220313T080000
END:DAYLIGHT
BEGIN:STANDARD
TZOFFSETFROM:-0500
TZOFFSETTO:-0600
TZNAME:CST
DTSTART:20221106T070000
END:STANDARD
END:VTIMEZONE
BEGIN:VEVENT
DTSTART;VALUE=DATE:20210705
DTEND;VALUE=DATE:20210706
DTSTAMP:20260421T175346
CREATED:20210106T171810Z
LAST-MODIFIED:20210106T171810Z
UID:5904-1625443200-1625529599@www.tuscco.com
SUMMARY:Independence Day Holiday
DESCRIPTION:The Tuscaloosa County Courthouse will be closed on Monday\, July 5th 2021 for the Independence Day Holiday.
URL:https://www.tuscco.com/event/independence-day-holiday/
LOCATION:AL
CATEGORIES:Holiday
END:VEVENT
BEGIN:VEVENT
DTSTART;TZID=America/Chicago:20210707T090000
DTEND;TZID=America/Chicago:20210707T110000
DTSTAMP:20260421T175346
CREATED:20210706T213303Z
LAST-MODIFIED:20210706T213303Z
UID:6680-1625648400-1625655600@www.tuscco.com
SUMMARY:County Commission Meeting
DESCRIPTION:The Tuscaloosa County Commission will meet on July 7\, 2021 at 9:00 am in the County Commission Chambers (Room G15) at the Tuscaloosa County Courthouse.
URL:https://www.tuscco.com/event/county-commission-meeting-124/
LOCATION:County Commission Chambers\, 714 Greensboro Avenue\, Room G15\, Tuscaloosa\, AL\, 35401\, United States
CATEGORIES:Meetings
END:VEVENT
BEGIN:VEVENT
DTSTART;TZID=America/Chicago:20210721T090000
DTEND;TZID=America/Chicago:20210721T110000
DTSTAMP:20260421T175346
CREATED:20210706T213723Z
LAST-MODIFIED:20210706T213723Z
UID:6682-1626858000-1626865200@www.tuscco.com
SUMMARY:County Commission  Meeting
DESCRIPTION:The Tuscaloosa County Commission will meet on July 21\, 2021 at 9:00 am in the County Commission Chambers (Room G15) at the Tuscaloosa County Courthouse.
URL:https://www.tuscco.com/event/county-commission-meeting-125/
LOCATION:County Commission Chambers\, 714 Greensboro Avenue\, Room G15\, Tuscaloosa\, AL\, 35401\, United States
CATEGORIES:Meetings
END:VEVENT
END:VCALENDAR