BEGIN:VCALENDAR
VERSION:2.0
PRODID:-//Tuscaloosa County Alabama - ECPv6.15.20//NONSGML v1.0//EN
CALSCALE:GREGORIAN
METHOD:PUBLISH
X-ORIGINAL-URL:https://www.tuscco.com
X-WR-CALDESC:Events for Tuscaloosa County Alabama
REFRESH-INTERVAL;VALUE=DURATION:PT1H
X-Robots-Tag:noindex
X-PUBLISHED-TTL:PT1H
BEGIN:VTIMEZONE
TZID:America/Chicago
BEGIN:DAYLIGHT
TZOFFSETFROM:-0600
TZOFFSETTO:-0500
TZNAME:CDT
DTSTART:20200308T080000
END:DAYLIGHT
BEGIN:STANDARD
TZOFFSETFROM:-0500
TZOFFSETTO:-0600
TZNAME:CST
DTSTART:20201101T070000
END:STANDARD
BEGIN:DAYLIGHT
TZOFFSETFROM:-0600
TZOFFSETTO:-0500
TZNAME:CDT
DTSTART:20210314T080000
END:DAYLIGHT
BEGIN:STANDARD
TZOFFSETFROM:-0500
TZOFFSETTO:-0600
TZNAME:CST
DTSTART:20211107T070000
END:STANDARD
BEGIN:DAYLIGHT
TZOFFSETFROM:-0600
TZOFFSETTO:-0500
TZNAME:CDT
DTSTART:20220313T080000
END:DAYLIGHT
BEGIN:STANDARD
TZOFFSETFROM:-0500
TZOFFSETTO:-0600
TZNAME:CST
DTSTART:20221106T070000
END:STANDARD
END:VTIMEZONE
BEGIN:VEVENT
DTSTART;TZID=America/Chicago:20210602T090000
DTEND;TZID=America/Chicago:20210602T110000
DTSTAMP:20260421T191742
CREATED:20210526T190049Z
LAST-MODIFIED:20210526T190049Z
UID:6562-1622624400-1622631600@www.tuscco.com
SUMMARY:County Commission Meeting
DESCRIPTION:The Tuscaloosa County Commission will meet on May 19\, 2021 at 9:00 am in the County Commission Chambers (Room G15) at the Tuscaloosa County Courthouse.
URL:https://www.tuscco.com/event/county-commission-meeting-121/
LOCATION:AL
CATEGORIES:Meetings
END:VEVENT
BEGIN:VEVENT
DTSTART;TZID=America/Chicago:20210610T090000
DTEND;TZID=America/Chicago:20210610T110000
DTSTAMP:20260421T191742
CREATED:20210607T140141Z
LAST-MODIFIED:20210607T140141Z
UID:6590-1623315600-1623322800@www.tuscco.com
SUMMARY:County Commission Meeting
DESCRIPTION:The Tuscaloosa County Commission will meet Thursday\, June 10\, 2021 at 9:OO a.m. in the Commission Chambers of the Tuscaloosa County Courthouse for the purpose of evaluating proposals for administration of the Federal Emergency Rental Assistance Program.
URL:https://www.tuscco.com/event/county-commission-meeting-123/
LOCATION:County Commission Chambers\, 714 Greensboro Avenue\, Room G15\, Tuscaloosa\, AL\, 35401\, United States
CATEGORIES:Meetings
END:VEVENT
BEGIN:VEVENT
DTSTART;TZID=America/Chicago:20210616T090000
DTEND;TZID=America/Chicago:20210616T110000
DTSTAMP:20260421T191742
CREATED:20210526T190413Z
LAST-MODIFIED:20210526T191433Z
UID:6565-1623834000-1623841200@www.tuscco.com
SUMMARY:County Commission Meeting
DESCRIPTION:The Tuscaloosa County Commission will meet on May 19\, 2021 at 9:00 am in the County Commission Chambers (Room G15) at the Tuscaloosa County Courthouse.
URL:https://www.tuscco.com/event/county-commission-meeting-122/
LOCATION:AL
CATEGORIES:Meetings
END:VEVENT
END:VCALENDAR